BEGIN:VCALENDAR
VERSION:2.0
PRODID:-//Rawdon Community Library - ECPv6.15.17.1//NONSGML v1.0//EN
CALSCALE:GREGORIAN
METHOD:PUBLISH
X-WR-CALNAME:Rawdon Community Library
X-ORIGINAL-URL:https://rawdoncommunitylibrary.co.uk
X-WR-CALDESC:Events for Rawdon Community Library
REFRESH-INTERVAL;VALUE=DURATION:PT1H
X-Robots-Tag:noindex
X-PUBLISHED-TTL:PT1H
BEGIN:VTIMEZONE
TZID:Europe/London
BEGIN:DAYLIGHT
TZOFFSETFROM:+0000
TZOFFSETTO:+0100
TZNAME:BST
DTSTART:20250330T010000
END:DAYLIGHT
BEGIN:STANDARD
TZOFFSETFROM:+0100
TZOFFSETTO:+0000
TZNAME:GMT
DTSTART:20251026T010000
END:STANDARD
BEGIN:DAYLIGHT
TZOFFSETFROM:+0000
TZOFFSETTO:+0100
TZNAME:BST
DTSTART:20260329T010000
END:DAYLIGHT
BEGIN:STANDARD
TZOFFSETFROM:+0100
TZOFFSETTO:+0000
TZNAME:GMT
DTSTART:20261025T010000
END:STANDARD
BEGIN:DAYLIGHT
TZOFFSETFROM:+0000
TZOFFSETTO:+0100
TZNAME:BST
DTSTART:20270328T010000
END:DAYLIGHT
BEGIN:STANDARD
TZOFFSETFROM:+0100
TZOFFSETTO:+0000
TZNAME:GMT
DTSTART:20271031T010000
END:STANDARD
END:VTIMEZONE
BEGIN:VEVENT
DTSTART;TZID=Europe/London:20260203T100000
DTEND;TZID=Europe/London:20260203T120000
DTSTAMP:20260420T185851
CREATED:20260108T113043Z
LAST-MODIFIED:20260108T113043Z
UID:8380-1770112800-1770120000@rawdoncommunitylibrary.co.uk
SUMMARY:Crochet Club
DESCRIPTION:
URL:https://rawdoncommunitylibrary.co.uk/event/crochet-club-434/
END:VEVENT
BEGIN:VEVENT
DTSTART;TZID=Europe/London:20260203T100000
DTEND;TZID=Europe/London:20260203T120000
DTSTAMP:20260420T185851
CREATED:20260108T113119Z
LAST-MODIFIED:20260108T113119Z
UID:8382-1770112800-1770120000@rawdoncommunitylibrary.co.uk
SUMMARY:'Regenr8' Men's Group
DESCRIPTION:
URL:https://rawdoncommunitylibrary.co.uk/event/regenr8-mens-group-75/
END:VEVENT
BEGIN:VEVENT
DTSTART;TZID=Europe/London:20260203T103000
DTEND;TZID=Europe/London:20260203T120000
DTSTAMP:20260420T185851
CREATED:20260108T113203Z
LAST-MODIFIED:20260108T113203Z
UID:8384-1770114600-1770120000@rawdoncommunitylibrary.co.uk
SUMMARY:Coffee\, Cake & Chat
DESCRIPTION:
URL:https://rawdoncommunitylibrary.co.uk/event/coffee-cake-chat/
END:VEVENT
BEGIN:VEVENT
DTSTART;TZID=Europe/London:20260203T130000
DTEND;TZID=Europe/London:20260203T150000
DTSTAMP:20260420T185851
CREATED:20260108T113231Z
LAST-MODIFIED:20260108T113231Z
UID:8387-1770123600-1770130800@rawdoncommunitylibrary.co.uk
SUMMARY:Crochet Club
DESCRIPTION:
URL:https://rawdoncommunitylibrary.co.uk/event/crochet-club-435/
END:VEVENT
BEGIN:VEVENT
DTSTART;TZID=Europe/London:20260203T133000
DTEND;TZID=Europe/London:20260203T150000
DTSTAMP:20260420T185851
CREATED:20260108T113306Z
LAST-MODIFIED:20260108T113306Z
UID:8389-1770125400-1770130800@rawdoncommunitylibrary.co.uk
SUMMARY:Coffee\, Cake & Chat
DESCRIPTION:
URL:https://rawdoncommunitylibrary.co.uk/event/coffee-cake-chat-2/
END:VEVENT
END:VCALENDAR