BEGIN:VCALENDAR
VERSION:2.0
PRODID:-//Rawdon Community Library - ECPv6.15.17.1//NONSGML v1.0//EN
CALSCALE:GREGORIAN
METHOD:PUBLISH
X-ORIGINAL-URL:https://rawdoncommunitylibrary.co.uk
X-WR-CALDESC:Events for Rawdon Community Library
REFRESH-INTERVAL;VALUE=DURATION:PT1H
X-Robots-Tag:noindex
X-PUBLISHED-TTL:PT1H
BEGIN:VTIMEZONE
TZID:Europe/London
BEGIN:DAYLIGHT
TZOFFSETFROM:+0000
TZOFFSETTO:+0100
TZNAME:BST
DTSTART:20250330T010000
END:DAYLIGHT
BEGIN:STANDARD
TZOFFSETFROM:+0100
TZOFFSETTO:+0000
TZNAME:GMT
DTSTART:20251026T010000
END:STANDARD
BEGIN:DAYLIGHT
TZOFFSETFROM:+0000
TZOFFSETTO:+0100
TZNAME:BST
DTSTART:20260329T010000
END:DAYLIGHT
BEGIN:STANDARD
TZOFFSETFROM:+0100
TZOFFSETTO:+0000
TZNAME:GMT
DTSTART:20261025T010000
END:STANDARD
BEGIN:DAYLIGHT
TZOFFSETFROM:+0000
TZOFFSETTO:+0100
TZNAME:BST
DTSTART:20270328T010000
END:DAYLIGHT
BEGIN:STANDARD
TZOFFSETFROM:+0100
TZOFFSETTO:+0000
TZNAME:GMT
DTSTART:20271031T010000
END:STANDARD
END:VTIMEZONE
BEGIN:VEVENT
DTSTART;TZID=Europe/London:20260505T100000
DTEND;TZID=Europe/London:20260505T120000
DTSTAMP:20260422T111214
CREATED:20260413T143034Z
LAST-MODIFIED:20260413T143034Z
UID:8823-1777975200-1777982400@rawdoncommunitylibrary.co.uk
SUMMARY:Crochet Club
DESCRIPTION:
URL:https://rawdoncommunitylibrary.co.uk/event/crochet-club-461/
END:VEVENT
BEGIN:VEVENT
DTSTART;TZID=Europe/London:20260505T103000
DTEND;TZID=Europe/London:20260505T120000
DTSTAMP:20260422T111214
CREATED:20260413T143334Z
LAST-MODIFIED:20260413T143334Z
UID:8839-1777977000-1777982400@rawdoncommunitylibrary.co.uk
SUMMARY:Cafe\, Cake and Chat
DESCRIPTION:
URL:https://rawdoncommunitylibrary.co.uk/event/cafe-cake-and-chat/
END:VEVENT
BEGIN:VEVENT
DTSTART;TZID=Europe/London:20260505T130000
DTEND;TZID=Europe/London:20260505T150000
DTSTAMP:20260422T111214
CREATED:20260413T143211Z
LAST-MODIFIED:20260413T143211Z
UID:8831-1777986000-1777993200@rawdoncommunitylibrary.co.uk
SUMMARY:Crochet Club
DESCRIPTION:
URL:https://rawdoncommunitylibrary.co.uk/event/crochet-club-465/
END:VEVENT
BEGIN:VEVENT
DTSTART;TZID=Europe/London:20260505T133000
DTEND;TZID=Europe/London:20260505T150000
DTSTAMP:20260422T111214
CREATED:20260413T143448Z
LAST-MODIFIED:20260413T143448Z
UID:8847-1777987800-1777993200@rawdoncommunitylibrary.co.uk
SUMMARY:Cafe\, Cake and Chat
DESCRIPTION:
URL:https://rawdoncommunitylibrary.co.uk/event/cafe-cake-and-chat-5/
END:VEVENT
END:VCALENDAR