BEGIN:VCALENDAR
VERSION:2.0
PRODID:-//Rawdon Community Library - ECPv6.15.17.1//NONSGML v1.0//EN
CALSCALE:GREGORIAN
METHOD:PUBLISH
X-WR-CALNAME:Rawdon Community Library
X-ORIGINAL-URL:https://rawdoncommunitylibrary.co.uk
X-WR-CALDESC:Events for Rawdon Community Library
REFRESH-INTERVAL;VALUE=DURATION:PT1H
X-Robots-Tag:noindex
X-PUBLISHED-TTL:PT1H
BEGIN:VTIMEZONE
TZID:Europe/London
BEGIN:DAYLIGHT
TZOFFSETFROM:+0000
TZOFFSETTO:+0100
TZNAME:BST
DTSTART:20250330T010000
END:DAYLIGHT
BEGIN:STANDARD
TZOFFSETFROM:+0100
TZOFFSETTO:+0000
TZNAME:GMT
DTSTART:20251026T010000
END:STANDARD
BEGIN:DAYLIGHT
TZOFFSETFROM:+0000
TZOFFSETTO:+0100
TZNAME:BST
DTSTART:20260329T010000
END:DAYLIGHT
BEGIN:STANDARD
TZOFFSETFROM:+0100
TZOFFSETTO:+0000
TZNAME:GMT
DTSTART:20261025T010000
END:STANDARD
BEGIN:DAYLIGHT
TZOFFSETFROM:+0000
TZOFFSETTO:+0100
TZNAME:BST
DTSTART:20270328T010000
END:DAYLIGHT
BEGIN:STANDARD
TZOFFSETFROM:+0100
TZOFFSETTO:+0000
TZNAME:GMT
DTSTART:20271031T010000
END:STANDARD
END:VTIMEZONE
BEGIN:VEVENT
DTSTART;TZID=Europe/London:20260508T130000
DTEND;TZID=Europe/London:20260508T160000
DTSTAMP:20260422T105409
CREATED:20260413T143822Z
LAST-MODIFIED:20260413T143822Z
UID:8863-1778245200-1778256000@rawdoncommunitylibrary.co.uk
SUMMARY:Bridge Club
DESCRIPTION:
URL:https://rawdoncommunitylibrary.co.uk/event/bridge-club-183/
END:VEVENT
BEGIN:VEVENT
DTSTART;TZID=Europe/London:20260508T131500
DTEND;TZID=Europe/London:20260508T154500
DTSTAMP:20260422T105409
CREATED:20260413T143958Z
LAST-MODIFIED:20260413T143958Z
UID:8873-1778246100-1778255100@rawdoncommunitylibrary.co.uk
SUMMARY:Mah-Jong
DESCRIPTION:
URL:https://rawdoncommunitylibrary.co.uk/event/mah-jong-97/
END:VEVENT
END:VCALENDAR