BEGIN:VCALENDAR
VERSION:2.0
PRODID:-//Rawdon Community Library - ECPv6.15.17.1//NONSGML v1.0//EN
CALSCALE:GREGORIAN
METHOD:PUBLISH
X-ORIGINAL-URL:https://rawdoncommunitylibrary.co.uk
X-WR-CALDESC:Events for Rawdon Community Library
REFRESH-INTERVAL;VALUE=DURATION:PT1H
X-Robots-Tag:noindex
X-PUBLISHED-TTL:PT1H
BEGIN:VTIMEZONE
TZID:Europe/London
BEGIN:DAYLIGHT
TZOFFSETFROM:+0000
TZOFFSETTO:+0100
TZNAME:BST
DTSTART:20250330T010000
END:DAYLIGHT
BEGIN:STANDARD
TZOFFSETFROM:+0100
TZOFFSETTO:+0000
TZNAME:GMT
DTSTART:20251026T010000
END:STANDARD
BEGIN:DAYLIGHT
TZOFFSETFROM:+0000
TZOFFSETTO:+0100
TZNAME:BST
DTSTART:20260329T010000
END:DAYLIGHT
BEGIN:STANDARD
TZOFFSETFROM:+0100
TZOFFSETTO:+0000
TZNAME:GMT
DTSTART:20261025T010000
END:STANDARD
BEGIN:DAYLIGHT
TZOFFSETFROM:+0000
TZOFFSETTO:+0100
TZNAME:BST
DTSTART:20270328T010000
END:DAYLIGHT
BEGIN:STANDARD
TZOFFSETFROM:+0100
TZOFFSETTO:+0000
TZNAME:GMT
DTSTART:20271031T010000
END:STANDARD
END:VTIMEZONE
BEGIN:VEVENT
DTSTART;TZID=Europe/London:20260511T100000
DTEND;TZID=Europe/London:20260511T120000
DTSTAMP:20260422T105714
CREATED:20260413T142832Z
LAST-MODIFIED:20260413T142832Z
UID:8809-1778493600-1778500800@rawdoncommunitylibrary.co.uk
SUMMARY:Adult Sewing Bee
DESCRIPTION:
URL:https://rawdoncommunitylibrary.co.uk/event/adult-sewing-bee-170/
END:VEVENT
BEGIN:VEVENT
DTSTART;TZID=Europe/London:20260511T130000
DTEND;TZID=Europe/London:20260511T150000
DTSTAMP:20260422T105714
CREATED:20260413T142940Z
LAST-MODIFIED:20260413T142940Z
UID:8817-1778504400-1778511600@rawdoncommunitylibrary.co.uk
SUMMARY:Adult Sewing Bee
DESCRIPTION:
URL:https://rawdoncommunitylibrary.co.uk/event/adult-sewing-bee-174/
END:VEVENT
BEGIN:VEVENT
DTSTART;TZID=Europe/London:20260511T140000
DTEND;TZID=Europe/London:20260511T160000
DTSTAMP:20260422T105714
CREATED:20260413T145033Z
LAST-MODIFIED:20260413T145033Z
UID:8893-1778508000-1778515200@rawdoncommunitylibrary.co.uk
SUMMARY:Scrabble Club
DESCRIPTION:
URL:https://rawdoncommunitylibrary.co.uk/event/scrabble-club-46/
END:VEVENT
END:VCALENDAR