BEGIN:VCALENDAR
VERSION:2.0
PRODID:-//Rawdon Community Library - ECPv6.15.17.1//NONSGML v1.0//EN
CALSCALE:GREGORIAN
METHOD:PUBLISH
X-WR-CALNAME:Rawdon Community Library
X-ORIGINAL-URL:https://rawdoncommunitylibrary.co.uk
X-WR-CALDESC:Events for Rawdon Community Library
REFRESH-INTERVAL;VALUE=DURATION:PT1H
X-Robots-Tag:noindex
X-PUBLISHED-TTL:PT1H
BEGIN:VTIMEZONE
TZID:Europe/London
BEGIN:DAYLIGHT
TZOFFSETFROM:+0000
TZOFFSETTO:+0100
TZNAME:BST
DTSTART:20250330T010000
END:DAYLIGHT
BEGIN:STANDARD
TZOFFSETFROM:+0100
TZOFFSETTO:+0000
TZNAME:GMT
DTSTART:20251026T010000
END:STANDARD
BEGIN:DAYLIGHT
TZOFFSETFROM:+0000
TZOFFSETTO:+0100
TZNAME:BST
DTSTART:20260329T010000
END:DAYLIGHT
BEGIN:STANDARD
TZOFFSETFROM:+0100
TZOFFSETTO:+0000
TZNAME:GMT
DTSTART:20261025T010000
END:STANDARD
BEGIN:DAYLIGHT
TZOFFSETFROM:+0000
TZOFFSETTO:+0100
TZNAME:BST
DTSTART:20270328T010000
END:DAYLIGHT
BEGIN:STANDARD
TZOFFSETFROM:+0100
TZOFFSETTO:+0000
TZNAME:GMT
DTSTART:20271031T010000
END:STANDARD
END:VTIMEZONE
BEGIN:VEVENT
DTSTART;TZID=Europe/London:20260512T100000
DTEND;TZID=Europe/London:20260512T120000
DTSTAMP:20260422T105414
CREATED:20260413T143047Z
LAST-MODIFIED:20260413T143047Z
UID:8825-1778580000-1778587200@rawdoncommunitylibrary.co.uk
SUMMARY:Crochet Club
DESCRIPTION:
URL:https://rawdoncommunitylibrary.co.uk/event/crochet-club-462/
END:VEVENT
BEGIN:VEVENT
DTSTART;TZID=Europe/London:20260512T100000
DTEND;TZID=Europe/London:20260512T120000
DTSTAMP:20260422T105414
CREATED:20260413T144743Z
LAST-MODIFIED:20260413T144743Z
UID:8881-1778580000-1778587200@rawdoncommunitylibrary.co.uk
SUMMARY:'Regenr8' Men's Group
DESCRIPTION:
URL:https://rawdoncommunitylibrary.co.uk/event/regenr8-mens-group-82/
END:VEVENT
BEGIN:VEVENT
DTSTART;TZID=Europe/London:20260512T103000
DTEND;TZID=Europe/London:20260512T120000
DTSTAMP:20260422T105414
CREATED:20260413T143349Z
LAST-MODIFIED:20260413T143349Z
UID:8841-1778581800-1778587200@rawdoncommunitylibrary.co.uk
SUMMARY:Cafe\, Cake and Chat
DESCRIPTION:
URL:https://rawdoncommunitylibrary.co.uk/event/cafe-cake-and-chat-2/
END:VEVENT
BEGIN:VEVENT
DTSTART;TZID=Europe/London:20260512T130000
DTEND;TZID=Europe/London:20260512T150000
DTSTAMP:20260422T105414
CREATED:20260413T143239Z
LAST-MODIFIED:20260413T143239Z
UID:8833-1778590800-1778598000@rawdoncommunitylibrary.co.uk
SUMMARY:Crochet Club
DESCRIPTION:
URL:https://rawdoncommunitylibrary.co.uk/event/crochet-club-466/
END:VEVENT
BEGIN:VEVENT
DTSTART;TZID=Europe/London:20260512T133000
DTEND;TZID=Europe/London:20260512T150000
DTSTAMP:20260422T105414
CREATED:20260413T143507Z
LAST-MODIFIED:20260413T143514Z
UID:8849-1778592600-1778598000@rawdoncommunitylibrary.co.uk
SUMMARY:Cafe\, Cake and Chat
DESCRIPTION:
URL:https://rawdoncommunitylibrary.co.uk/event/cafe-cake-and-chat-6/
END:VEVENT
BEGIN:VEVENT
DTSTART;TZID=Europe/London:20260512T140000
DTEND;TZID=Europe/London:20260512T140000
DTSTAMP:20260422T105414
CREATED:20260413T145306Z
LAST-MODIFIED:20260413T145311Z
UID:8901-1778594400-1778594400@rawdoncommunitylibrary.co.uk
SUMMARY:LECTURE: A Celebration of Jake Thackray
DESCRIPTION:Hosted by Paul Thompson on Tuesday 12th May. \n£5 per ticket. \nBegins at 2pm
URL:https://rawdoncommunitylibrary.co.uk/event/lecture-a-celebration-of-jake-thackray/
END:VEVENT
END:VCALENDAR