BEGIN:VCALENDAR
VERSION:2.0
PRODID:-//Rawdon Community Library - ECPv6.15.17.1//NONSGML v1.0//EN
CALSCALE:GREGORIAN
METHOD:PUBLISH
X-WR-CALNAME:Rawdon Community Library
X-ORIGINAL-URL:https://rawdoncommunitylibrary.co.uk
X-WR-CALDESC:Events for Rawdon Community Library
REFRESH-INTERVAL;VALUE=DURATION:PT1H
X-Robots-Tag:noindex
X-PUBLISHED-TTL:PT1H
BEGIN:VTIMEZONE
TZID:Europe/London
BEGIN:DAYLIGHT
TZOFFSETFROM:+0000
TZOFFSETTO:+0100
TZNAME:BST
DTSTART:20250330T010000
END:DAYLIGHT
BEGIN:STANDARD
TZOFFSETFROM:+0100
TZOFFSETTO:+0000
TZNAME:GMT
DTSTART:20251026T010000
END:STANDARD
BEGIN:DAYLIGHT
TZOFFSETFROM:+0000
TZOFFSETTO:+0100
TZNAME:BST
DTSTART:20260329T010000
END:DAYLIGHT
BEGIN:STANDARD
TZOFFSETFROM:+0100
TZOFFSETTO:+0000
TZNAME:GMT
DTSTART:20261025T010000
END:STANDARD
BEGIN:DAYLIGHT
TZOFFSETFROM:+0000
TZOFFSETTO:+0100
TZNAME:BST
DTSTART:20270328T010000
END:DAYLIGHT
BEGIN:STANDARD
TZOFFSETFROM:+0100
TZOFFSETTO:+0000
TZNAME:GMT
DTSTART:20271031T010000
END:STANDARD
END:VTIMEZONE
BEGIN:VEVENT
DTSTART;TZID=Europe/London:20260514T100000
DTEND;TZID=Europe/London:20260514T120000
DTSTAMP:20260422T111125
CREATED:20260413T143641Z
LAST-MODIFIED:20260413T143641Z
UID:8855-1778752800-1778760000@rawdoncommunitylibrary.co.uk
SUMMARY:Find My Past and Local History Support
DESCRIPTION:
URL:https://rawdoncommunitylibrary.co.uk/event/find-my-past-and-local-history-support-48/
END:VEVENT
BEGIN:VEVENT
DTSTART;TZID=Europe/London:20260514T133000
DTEND;TZID=Europe/London:20260514T160000
DTSTAMP:20260422T111125
CREATED:20260413T144846Z
LAST-MODIFIED:20260413T144851Z
UID:8885-1778765400-1778774400@rawdoncommunitylibrary.co.uk
SUMMARY:Needlecraft
DESCRIPTION:
URL:https://rawdoncommunitylibrary.co.uk/event/needlecraft-116/
END:VEVENT
BEGIN:VEVENT
DTSTART;TZID=Europe/London:20260514T190000
DTEND;TZID=Europe/London:20260514T190000
DTSTAMP:20260422T111125
CREATED:20260413T145336Z
LAST-MODIFIED:20260413T145405Z
UID:8903-1778785200-1778785200@rawdoncommunitylibrary.co.uk
SUMMARY:Quiz Night
DESCRIPTION:Starts at 7pm. \n£5 per ticket. \nWhen you buy a ticket please inform the desk what meal you would like
URL:https://rawdoncommunitylibrary.co.uk/event/quiz-night-6/
END:VEVENT
END:VCALENDAR