BEGIN:VCALENDAR
VERSION:2.0
PRODID:-//Rawdon Community Library - ECPv6.15.17.1//NONSGML v1.0//EN
CALSCALE:GREGORIAN
METHOD:PUBLISH
X-ORIGINAL-URL:https://rawdoncommunitylibrary.co.uk
X-WR-CALDESC:Events for Rawdon Community Library
REFRESH-INTERVAL;VALUE=DURATION:PT1H
X-Robots-Tag:noindex
X-PUBLISHED-TTL:PT1H
BEGIN:VTIMEZONE
TZID:Europe/London
BEGIN:DAYLIGHT
TZOFFSETFROM:+0000
TZOFFSETTO:+0100
TZNAME:BST
DTSTART:20250330T010000
END:DAYLIGHT
BEGIN:STANDARD
TZOFFSETFROM:+0100
TZOFFSETTO:+0000
TZNAME:GMT
DTSTART:20251026T010000
END:STANDARD
BEGIN:DAYLIGHT
TZOFFSETFROM:+0000
TZOFFSETTO:+0100
TZNAME:BST
DTSTART:20260329T010000
END:DAYLIGHT
BEGIN:STANDARD
TZOFFSETFROM:+0100
TZOFFSETTO:+0000
TZNAME:GMT
DTSTART:20261025T010000
END:STANDARD
BEGIN:DAYLIGHT
TZOFFSETFROM:+0000
TZOFFSETTO:+0100
TZNAME:BST
DTSTART:20270328T010000
END:DAYLIGHT
BEGIN:STANDARD
TZOFFSETFROM:+0100
TZOFFSETTO:+0000
TZNAME:GMT
DTSTART:20271031T010000
END:STANDARD
END:VTIMEZONE
BEGIN:VEVENT
DTSTART;TZID=Europe/London:20260526T100000
DTEND;TZID=Europe/London:20260526T120000
DTSTAMP:20260422T105701
CREATED:20260413T143155Z
LAST-MODIFIED:20260413T143155Z
UID:8829-1779789600-1779796800@rawdoncommunitylibrary.co.uk
SUMMARY:Crochet Club
DESCRIPTION:
URL:https://rawdoncommunitylibrary.co.uk/event/crochet-club-464/
END:VEVENT
BEGIN:VEVENT
DTSTART;TZID=Europe/London:20260526T100000
DTEND;TZID=Europe/London:20260526T120000
DTSTAMP:20260422T105701
CREATED:20260413T144807Z
LAST-MODIFIED:20260413T144807Z
UID:8883-1779789600-1779796800@rawdoncommunitylibrary.co.uk
SUMMARY:'Regenr8' Men's Group
DESCRIPTION:
URL:https://rawdoncommunitylibrary.co.uk/event/regenr8-mens-group-83/
END:VEVENT
BEGIN:VEVENT
DTSTART;TZID=Europe/London:20260526T103000
DTEND;TZID=Europe/London:20260526T120000
DTSTAMP:20260422T105701
CREATED:20260413T143430Z
LAST-MODIFIED:20260413T143430Z
UID:8845-1779791400-1779796800@rawdoncommunitylibrary.co.uk
SUMMARY:Cafe\, Cake and Chat
DESCRIPTION:
URL:https://rawdoncommunitylibrary.co.uk/event/cafe-cake-and-chat-4/
END:VEVENT
BEGIN:VEVENT
DTSTART;TZID=Europe/London:20260526T130000
DTEND;TZID=Europe/London:20260526T150000
DTSTAMP:20260422T105701
CREATED:20260413T143306Z
LAST-MODIFIED:20260413T143306Z
UID:8837-1779800400-1779807600@rawdoncommunitylibrary.co.uk
SUMMARY:Crochet Club
DESCRIPTION:
URL:https://rawdoncommunitylibrary.co.uk/event/crochet-club-468/
END:VEVENT
BEGIN:VEVENT
DTSTART;TZID=Europe/London:20260526T133000
DTEND;TZID=Europe/London:20260526T150000
DTSTAMP:20260422T105701
CREATED:20260413T143553Z
LAST-MODIFIED:20260413T143553Z
UID:8851-1779802200-1779807600@rawdoncommunitylibrary.co.uk
SUMMARY:Cafe\, Cake and Chat
DESCRIPTION:
URL:https://rawdoncommunitylibrary.co.uk/event/cafe-cake-and-chat-7/
END:VEVENT
BEGIN:VEVENT
DTSTART;TZID=Europe/London:20260526T193000
DTEND;TZID=Europe/London:20260526T210000
DTSTAMP:20260422T105701
CREATED:20260414T111808Z
LAST-MODIFIED:20260414T111808Z
UID:8915-1779823800-1779829200@rawdoncommunitylibrary.co.uk
SUMMARY:Aireborough Civic Society
DESCRIPTION:
URL:https://rawdoncommunitylibrary.co.uk/event/aireborough-civic-society-32/
END:VEVENT
END:VCALENDAR