BEGIN:VCALENDAR
VERSION:2.0
PRODID:-//Rawdon Community Library - ECPv6.15.17.1//NONSGML v1.0//EN
CALSCALE:GREGORIAN
METHOD:PUBLISH
X-ORIGINAL-URL:https://rawdoncommunitylibrary.co.uk
X-WR-CALDESC:Events for Rawdon Community Library
REFRESH-INTERVAL;VALUE=DURATION:PT1H
X-Robots-Tag:noindex
X-PUBLISHED-TTL:PT1H
BEGIN:VTIMEZONE
TZID:Europe/London
BEGIN:DAYLIGHT
TZOFFSETFROM:+0000
TZOFFSETTO:+0100
TZNAME:BST
DTSTART:20250330T010000
END:DAYLIGHT
BEGIN:STANDARD
TZOFFSETFROM:+0100
TZOFFSETTO:+0000
TZNAME:GMT
DTSTART:20251026T010000
END:STANDARD
BEGIN:DAYLIGHT
TZOFFSETFROM:+0000
TZOFFSETTO:+0100
TZNAME:BST
DTSTART:20260329T010000
END:DAYLIGHT
BEGIN:STANDARD
TZOFFSETFROM:+0100
TZOFFSETTO:+0000
TZNAME:GMT
DTSTART:20261025T010000
END:STANDARD
BEGIN:DAYLIGHT
TZOFFSETFROM:+0000
TZOFFSETTO:+0100
TZNAME:BST
DTSTART:20270328T010000
END:DAYLIGHT
BEGIN:STANDARD
TZOFFSETFROM:+0100
TZOFFSETTO:+0000
TZNAME:GMT
DTSTART:20271031T010000
END:STANDARD
END:VTIMEZONE
BEGIN:VEVENT
DTSTART;TZID=Europe/London:20260204T110000
DTEND;TZID=Europe/London:20260204T120000
DTSTAMP:20260420T215201
CREATED:20260108T113344Z
LAST-MODIFIED:20260108T113344Z
UID:8391-1770202800-1770206400@rawdoncommunitylibrary.co.uk
SUMMARY:French Conversation
DESCRIPTION:
URL:https://rawdoncommunitylibrary.co.uk/event/french-conversation-122/
END:VEVENT
BEGIN:VEVENT
DTSTART;TZID=Europe/London:20260205T133000
DTEND;TZID=Europe/London:20260205T160000
DTSTAMP:20260420T215201
CREATED:20260108T113426Z
LAST-MODIFIED:20260108T113426Z
UID:8393-1770298200-1770307200@rawdoncommunitylibrary.co.uk
SUMMARY:Needlecraft
DESCRIPTION:
URL:https://rawdoncommunitylibrary.co.uk/event/needlecraft-111/
END:VEVENT
BEGIN:VEVENT
DTSTART;TZID=Europe/London:20260206T130000
DTEND;TZID=Europe/London:20260206T160000
DTSTAMP:20260420T215201
CREATED:20260108T113454Z
LAST-MODIFIED:20260108T113454Z
UID:8395-1770382800-1770393600@rawdoncommunitylibrary.co.uk
SUMMARY:Bridge Club
DESCRIPTION:
URL:https://rawdoncommunitylibrary.co.uk/event/bridge-club-170/
END:VEVENT
BEGIN:VEVENT
DTSTART;TZID=Europe/London:20260206T131500
DTEND;TZID=Europe/London:20260206T154500
DTSTAMP:20260420T215201
CREATED:20260108T113541Z
LAST-MODIFIED:20260108T113541Z
UID:8397-1770383700-1770392700@rawdoncommunitylibrary.co.uk
SUMMARY:Mah-Jong
DESCRIPTION:
URL:https://rawdoncommunitylibrary.co.uk/event/mah-jong-84/
END:VEVENT
BEGIN:VEVENT
DTSTART;TZID=Europe/London:20260207T110000
DTEND;TZID=Europe/London:20260207T123000
DTSTAMP:20260420T215201
CREATED:20260108T114511Z
LAST-MODIFIED:20260108T114511Z
UID:8421-1770462000-1770467400@rawdoncommunitylibrary.co.uk
SUMMARY:Local Councillors Surgery
DESCRIPTION:
URL:https://rawdoncommunitylibrary.co.uk/event/local-councillors-surgery-16/
END:VEVENT
BEGIN:VEVENT
DTSTART;TZID=Europe/London:20260209T100000
DTEND;TZID=Europe/London:20260209T120000
DTSTAMP:20260420T215201
CREATED:20260108T113622Z
LAST-MODIFIED:20260108T113622Z
UID:8399-1770631200-1770638400@rawdoncommunitylibrary.co.uk
SUMMARY:Adult Sewing Bee
DESCRIPTION:
URL:https://rawdoncommunitylibrary.co.uk/event/adult-sewing-bee-146/
END:VEVENT
BEGIN:VEVENT
DTSTART;TZID=Europe/London:20260209T130000
DTEND;TZID=Europe/London:20260209T150000
DTSTAMP:20260420T215201
CREATED:20260108T113654Z
LAST-MODIFIED:20260108T113654Z
UID:8401-1770642000-1770649200@rawdoncommunitylibrary.co.uk
SUMMARY:Adult Sewing Bee
DESCRIPTION:
URL:https://rawdoncommunitylibrary.co.uk/event/adult-sewing-bee-147/
END:VEVENT
BEGIN:VEVENT
DTSTART;TZID=Europe/London:20260210T100000
DTEND;TZID=Europe/London:20260210T120000
DTSTAMP:20260420T215201
CREATED:20260108T113724Z
LAST-MODIFIED:20260108T113724Z
UID:8403-1770717600-1770724800@rawdoncommunitylibrary.co.uk
SUMMARY:Crochet Club
DESCRIPTION:
URL:https://rawdoncommunitylibrary.co.uk/event/crochet-club-436/
END:VEVENT
BEGIN:VEVENT
DTSTART;TZID=Europe/London:20260210T103000
DTEND;TZID=Europe/London:20260210T120000
DTSTAMP:20260420T215201
CREATED:20260108T113801Z
LAST-MODIFIED:20260108T113801Z
UID:8405-1770719400-1770724800@rawdoncommunitylibrary.co.uk
SUMMARY:Coffee\, Cake & Chat
DESCRIPTION:
URL:https://rawdoncommunitylibrary.co.uk/event/coffee-cake-chat-3/
END:VEVENT
BEGIN:VEVENT
DTSTART;TZID=Europe/London:20260210T130000
DTEND;TZID=Europe/London:20260210T150000
DTSTAMP:20260420T215201
CREATED:20260108T113830Z
LAST-MODIFIED:20260108T113830Z
UID:8407-1770728400-1770735600@rawdoncommunitylibrary.co.uk
SUMMARY:Crochet Club
DESCRIPTION:
URL:https://rawdoncommunitylibrary.co.uk/event/crochet-club-437/
END:VEVENT
BEGIN:VEVENT
DTSTART;TZID=Europe/London:20260210T133000
DTEND;TZID=Europe/London:20260210T150000
DTSTAMP:20260420T215201
CREATED:20260108T113908Z
LAST-MODIFIED:20260108T113908Z
UID:8409-1770730200-1770735600@rawdoncommunitylibrary.co.uk
SUMMARY:Coffee\, Cake & Chat
DESCRIPTION:
URL:https://rawdoncommunitylibrary.co.uk/event/coffee-cake-chat-4/
END:VEVENT
BEGIN:VEVENT
DTSTART;TZID=Europe/London:20260211T103000
DTEND;TZID=Europe/London:20260211T110000
DTSTAMP:20260420T215201
CREATED:20260108T114233Z
LAST-MODIFIED:20260108T114233Z
UID:8413-1770805800-1770807600@rawdoncommunitylibrary.co.uk
SUMMARY:Storytime
DESCRIPTION:
URL:https://rawdoncommunitylibrary.co.uk/event/storytime-19/
END:VEVENT
BEGIN:VEVENT
DTSTART;TZID=Europe/London:20260213T130000
DTEND;TZID=Europe/London:20260213T160000
DTSTAMP:20260420T215201
CREATED:20260108T114300Z
LAST-MODIFIED:20260108T114300Z
UID:8415-1770987600-1770998400@rawdoncommunitylibrary.co.uk
SUMMARY:Bridge Club
DESCRIPTION:
URL:https://rawdoncommunitylibrary.co.uk/event/bridge-club-171/
END:VEVENT
BEGIN:VEVENT
DTSTART;TZID=Europe/London:20260213T134500
DTEND;TZID=Europe/London:20260213T154500
DTSTAMP:20260420T215201
CREATED:20260108T114344Z
LAST-MODIFIED:20260108T114344Z
UID:8417-1770990300-1770997500@rawdoncommunitylibrary.co.uk
SUMMARY:Mah-Jong
DESCRIPTION:
URL:https://rawdoncommunitylibrary.co.uk/event/mah-jong-85/
END:VEVENT
BEGIN:VEVENT
DTSTART;TZID=Europe/London:20260216T100000
DTEND;TZID=Europe/London:20260216T120000
DTSTAMP:20260420T215201
CREATED:20260108T114609Z
LAST-MODIFIED:20260108T114609Z
UID:8425-1771236000-1771243200@rawdoncommunitylibrary.co.uk
SUMMARY:Adult Sewing Bee
DESCRIPTION:
URL:https://rawdoncommunitylibrary.co.uk/event/adult-sewing-bee-148/
END:VEVENT
BEGIN:VEVENT
DTSTART;TZID=Europe/London:20260216T130000
DTEND;TZID=Europe/London:20260216T150000
DTSTAMP:20260420T215201
CREATED:20260108T114638Z
LAST-MODIFIED:20260108T114638Z
UID:8427-1771246800-1771254000@rawdoncommunitylibrary.co.uk
SUMMARY:Adult Sewing Bee
DESCRIPTION:
URL:https://rawdoncommunitylibrary.co.uk/event/adult-sewing-bee-149/
END:VEVENT
BEGIN:VEVENT
DTSTART;TZID=Europe/London:20260216T140000
DTEND;TZID=Europe/London:20260216T160000
DTSTAMP:20260420T215201
CREATED:20260108T114713Z
LAST-MODIFIED:20260108T114713Z
UID:8429-1771250400-1771257600@rawdoncommunitylibrary.co.uk
SUMMARY:Railway Interest Group
DESCRIPTION:
URL:https://rawdoncommunitylibrary.co.uk/event/railway-interest-group-28/
END:VEVENT
BEGIN:VEVENT
DTSTART;TZID=Europe/London:20260217T100000
DTEND;TZID=Europe/London:20260217T120000
DTSTAMP:20260420T215201
CREATED:20260108T114800Z
LAST-MODIFIED:20260108T114800Z
UID:8431-1771322400-1771329600@rawdoncommunitylibrary.co.uk
SUMMARY:Crochet Club
DESCRIPTION:
URL:https://rawdoncommunitylibrary.co.uk/event/crochet-club-438/
END:VEVENT
BEGIN:VEVENT
DTSTART;TZID=Europe/London:20260217T100000
DTEND;TZID=Europe/London:20260217T120000
DTSTAMP:20260420T215201
CREATED:20260108T114917Z
LAST-MODIFIED:20260108T114917Z
UID:8435-1771322400-1771329600@rawdoncommunitylibrary.co.uk
SUMMARY:'Regenr8' Men's Group
DESCRIPTION:
URL:https://rawdoncommunitylibrary.co.uk/event/regenr8-mens-group-76/
END:VEVENT
BEGIN:VEVENT
DTSTART;TZID=Europe/London:20260217T103000
DTEND;TZID=Europe/London:20260217T120000
DTSTAMP:20260420T215201
CREATED:20260108T114836Z
LAST-MODIFIED:20260108T114836Z
UID:8433-1771324200-1771329600@rawdoncommunitylibrary.co.uk
SUMMARY:Coffee\, Cake & Chat
DESCRIPTION:
URL:https://rawdoncommunitylibrary.co.uk/event/coffee-cake-chat-5/
END:VEVENT
BEGIN:VEVENT
DTSTART;TZID=Europe/London:20260217T130000
DTEND;TZID=Europe/London:20260217T150000
DTSTAMP:20260420T215201
CREATED:20260108T114950Z
LAST-MODIFIED:20260108T114950Z
UID:8437-1771333200-1771340400@rawdoncommunitylibrary.co.uk
SUMMARY:Crochet Club
DESCRIPTION:
URL:https://rawdoncommunitylibrary.co.uk/event/crochet-club-439/
END:VEVENT
BEGIN:VEVENT
DTSTART;TZID=Europe/London:20260217T133000
DTEND;TZID=Europe/London:20260217T150000
DTSTAMP:20260420T215201
CREATED:20260108T115020Z
LAST-MODIFIED:20260108T115020Z
UID:8439-1771335000-1771340400@rawdoncommunitylibrary.co.uk
SUMMARY:Coffee\, Cake & Chat
DESCRIPTION:
URL:https://rawdoncommunitylibrary.co.uk/event/coffee-cake-chat-6/
END:VEVENT
BEGIN:VEVENT
DTSTART;TZID=Europe/London:20260218T100000
DTEND;TZID=Europe/London:20260218T120000
DTSTAMP:20260420T215201
CREATED:20260108T115132Z
LAST-MODIFIED:20260108T115132Z
UID:8443-1771408800-1771416000@rawdoncommunitylibrary.co.uk
SUMMARY:Children's Sewing Bee
DESCRIPTION:
URL:https://rawdoncommunitylibrary.co.uk/event/childrens-sewing-bee-14/
END:VEVENT
BEGIN:VEVENT
DTSTART;TZID=Europe/London:20260218T110000
DTEND;TZID=Europe/London:20260218T120000
DTSTAMP:20260420T215201
CREATED:20260108T115052Z
LAST-MODIFIED:20260108T115052Z
UID:8441-1771412400-1771416000@rawdoncommunitylibrary.co.uk
SUMMARY:French Conversation
DESCRIPTION:
URL:https://rawdoncommunitylibrary.co.uk/event/french-conversation-123/
END:VEVENT
BEGIN:VEVENT
DTSTART;TZID=Europe/London:20260219T103000
DTEND;TZID=Europe/London:20260219T120000
DTSTAMP:20260420T215201
CREATED:20260108T115203Z
LAST-MODIFIED:20260108T115203Z
UID:8445-1771497000-1771502400@rawdoncommunitylibrary.co.uk
SUMMARY:Family History Interest Group
DESCRIPTION:
URL:https://rawdoncommunitylibrary.co.uk/event/family-history-interest-group-3/
END:VEVENT
BEGIN:VEVENT
DTSTART;TZID=Europe/London:20260219T133000
DTEND;TZID=Europe/London:20260219T160000
DTSTAMP:20260420T215201
CREATED:20260108T115236Z
LAST-MODIFIED:20260108T115236Z
UID:8447-1771507800-1771516800@rawdoncommunitylibrary.co.uk
SUMMARY:Needlecraft
DESCRIPTION:
URL:https://rawdoncommunitylibrary.co.uk/event/needlecraft-112/
END:VEVENT
BEGIN:VEVENT
DTSTART;TZID=Europe/London:20260219T140000
DTEND;TZID=Europe/London:20260219T150000
DTSTAMP:20260420T215201
CREATED:20260108T115309Z
LAST-MODIFIED:20260108T115309Z
UID:8449-1771509600-1771513200@rawdoncommunitylibrary.co.uk
SUMMARY:Book Club
DESCRIPTION:
URL:https://rawdoncommunitylibrary.co.uk/event/book-club-18/
END:VEVENT
BEGIN:VEVENT
DTSTART;TZID=Europe/London:20260220T130000
DTEND;TZID=Europe/London:20260220T160000
DTSTAMP:20260420T215201
CREATED:20260108T115332Z
LAST-MODIFIED:20260108T115332Z
UID:8451-1771592400-1771603200@rawdoncommunitylibrary.co.uk
SUMMARY:Bridge Club
DESCRIPTION:
URL:https://rawdoncommunitylibrary.co.uk/event/bridge-club-172/
END:VEVENT
BEGIN:VEVENT
DTSTART;TZID=Europe/London:20260220T131500
DTEND;TZID=Europe/London:20260220T154500
DTSTAMP:20260420T215201
CREATED:20260108T115411Z
LAST-MODIFIED:20260108T115411Z
UID:8453-1771593300-1771602300@rawdoncommunitylibrary.co.uk
SUMMARY:Mah-Jong
DESCRIPTION:
URL:https://rawdoncommunitylibrary.co.uk/event/mah-jong-86/
END:VEVENT
BEGIN:VEVENT
DTSTART;TZID=Europe/London:20260222T110000
DTEND;TZID=Europe/London:20260222T130000
DTSTAMP:20260420T215201
CREATED:20260108T115447Z
LAST-MODIFIED:20260108T115447Z
UID:8455-1771758000-1771765200@rawdoncommunitylibrary.co.uk
SUMMARY:Children's Crafts
DESCRIPTION:
URL:https://rawdoncommunitylibrary.co.uk/event/childrens-crafts-20/
END:VEVENT
END:VCALENDAR