BEGIN:VCALENDAR
VERSION:2.0
PRODID:-//Rawdon Community Library - ECPv6.15.17.1//NONSGML v1.0//EN
CALSCALE:GREGORIAN
METHOD:PUBLISH
X-WR-CALNAME:Rawdon Community Library
X-ORIGINAL-URL:https://rawdoncommunitylibrary.co.uk
X-WR-CALDESC:Events for Rawdon Community Library
REFRESH-INTERVAL;VALUE=DURATION:PT1H
X-Robots-Tag:noindex
X-PUBLISHED-TTL:PT1H
BEGIN:VTIMEZONE
TZID:Europe/London
BEGIN:DAYLIGHT
TZOFFSETFROM:+0000
TZOFFSETTO:+0100
TZNAME:BST
DTSTART:20250330T010000
END:DAYLIGHT
BEGIN:STANDARD
TZOFFSETFROM:+0100
TZOFFSETTO:+0000
TZNAME:GMT
DTSTART:20251026T010000
END:STANDARD
BEGIN:DAYLIGHT
TZOFFSETFROM:+0000
TZOFFSETTO:+0100
TZNAME:BST
DTSTART:20260329T010000
END:DAYLIGHT
BEGIN:STANDARD
TZOFFSETFROM:+0100
TZOFFSETTO:+0000
TZNAME:GMT
DTSTART:20261025T010000
END:STANDARD
BEGIN:DAYLIGHT
TZOFFSETFROM:+0000
TZOFFSETTO:+0100
TZNAME:BST
DTSTART:20270328T010000
END:DAYLIGHT
BEGIN:STANDARD
TZOFFSETFROM:+0100
TZOFFSETTO:+0000
TZNAME:GMT
DTSTART:20271031T010000
END:STANDARD
END:VTIMEZONE
BEGIN:VEVENT
DTSTART;TZID=Europe/London:20260127T100000
DTEND;TZID=Europe/London:20260127T120000
DTSTAMP:20260421T011631
CREATED:20251206T110026Z
LAST-MODIFIED:20251206T110026Z
UID:8341-1769508000-1769515200@rawdoncommunitylibrary.co.uk
SUMMARY:Crochet Club
DESCRIPTION:
URL:https://rawdoncommunitylibrary.co.uk/event/crochet-club-432/
END:VEVENT
BEGIN:VEVENT
DTSTART;TZID=Europe/London:20260126T100000
DTEND;TZID=Europe/London:20260126T120000
DTSTAMP:20260421T011631
CREATED:20251206T105952Z
LAST-MODIFIED:20251206T105952Z
UID:8339-1769421600-1769428800@rawdoncommunitylibrary.co.uk
SUMMARY:Adult Sewing Bee
DESCRIPTION:
URL:https://rawdoncommunitylibrary.co.uk/event/adult-sewing-bee-145/
END:VEVENT
BEGIN:VEVENT
DTSTART;TZID=Europe/London:20260123T131500
DTEND;TZID=Europe/London:20260123T154500
DTSTAMP:20260421T011631
CREATED:20251206T105920Z
LAST-MODIFIED:20251206T105920Z
UID:8337-1769174100-1769183100@rawdoncommunitylibrary.co.uk
SUMMARY:Mah-Jong
DESCRIPTION:
URL:https://rawdoncommunitylibrary.co.uk/event/mah-jong-82/
END:VEVENT
BEGIN:VEVENT
DTSTART;TZID=Europe/London:20260123T130000
DTEND;TZID=Europe/London:20260123T160000
DTSTAMP:20260421T011631
CREATED:20251206T105844Z
LAST-MODIFIED:20251206T105844Z
UID:8335-1769173200-1769184000@rawdoncommunitylibrary.co.uk
SUMMARY:Bridge Club
DESCRIPTION:
URL:https://rawdoncommunitylibrary.co.uk/event/bridge-club-168/
END:VEVENT
BEGIN:VEVENT
DTSTART;TZID=Europe/London:20260122T133000
DTEND;TZID=Europe/London:20260122T160000
DTSTAMP:20260421T011631
CREATED:20251206T105812Z
LAST-MODIFIED:20251206T105812Z
UID:8333-1769088600-1769097600@rawdoncommunitylibrary.co.uk
SUMMARY:Needlecraft
DESCRIPTION:
URL:https://rawdoncommunitylibrary.co.uk/event/needlecraft-110/
END:VEVENT
BEGIN:VEVENT
DTSTART;TZID=Europe/London:20260122T103000
DTEND;TZID=Europe/London:20260122T120000
DTSTAMP:20260421T011631
CREATED:20251206T105702Z
LAST-MODIFIED:20251206T105702Z
UID:8331-1769077800-1769083200@rawdoncommunitylibrary.co.uk
SUMMARY:Family History Interest Group
DESCRIPTION:
URL:https://rawdoncommunitylibrary.co.uk/event/family-history-interest-group-2/
END:VEVENT
BEGIN:VEVENT
DTSTART;TZID=Europe/London:20260121T110000
DTEND;TZID=Europe/London:20260121T120000
DTSTAMP:20260421T011631
CREATED:20251206T105619Z
LAST-MODIFIED:20251206T105619Z
UID:8329-1768993200-1768996800@rawdoncommunitylibrary.co.uk
SUMMARY:French Conversation
DESCRIPTION:
URL:https://rawdoncommunitylibrary.co.uk/event/french-conversation-121/
END:VEVENT
BEGIN:VEVENT
DTSTART;TZID=Europe/London:20260120T133000
DTEND;TZID=Europe/London:20260120T150000
DTSTAMP:20260421T011631
CREATED:20251206T105549Z
LAST-MODIFIED:20251206T105549Z
UID:8327-1768915800-1768921200@rawdoncommunitylibrary.co.uk
SUMMARY:Coffee\, Cake and Chat
DESCRIPTION:
URL:https://rawdoncommunitylibrary.co.uk/event/coffee-cake-and-chat-155/
END:VEVENT
BEGIN:VEVENT
DTSTART;TZID=Europe/London:20260120T130000
DTEND;TZID=Europe/London:20260120T150000
DTSTAMP:20260421T011631
CREATED:20251206T105516Z
LAST-MODIFIED:20251206T105516Z
UID:8325-1768914000-1768921200@rawdoncommunitylibrary.co.uk
SUMMARY:Crochet Club
DESCRIPTION:
URL:https://rawdoncommunitylibrary.co.uk/event/crochet-club-431/
END:VEVENT
BEGIN:VEVENT
DTSTART;TZID=Europe/London:20260120T103000
DTEND;TZID=Europe/London:20260120T120000
DTSTAMP:20260421T011631
CREATED:20251206T105443Z
LAST-MODIFIED:20251206T105443Z
UID:8323-1768905000-1768910400@rawdoncommunitylibrary.co.uk
SUMMARY:Coffee\, Cake and Chat
DESCRIPTION:
URL:https://rawdoncommunitylibrary.co.uk/event/coffee-cake-and-chat-154/
END:VEVENT
BEGIN:VEVENT
DTSTART;TZID=Europe/London:20260120T100000
DTEND;TZID=Europe/London:20260120T120000
DTSTAMP:20260421T011631
CREATED:20251206T105407Z
LAST-MODIFIED:20251206T105407Z
UID:8321-1768903200-1768910400@rawdoncommunitylibrary.co.uk
SUMMARY:Crochet Club
DESCRIPTION:
URL:https://rawdoncommunitylibrary.co.uk/event/crochet-club-430/
END:VEVENT
BEGIN:VEVENT
DTSTART;TZID=Europe/London:20260119T140000
DTEND;TZID=Europe/London:20260119T160000
DTSTAMP:20260421T011631
CREATED:20251206T110714Z
LAST-MODIFIED:20251206T110714Z
UID:8359-1768831200-1768838400@rawdoncommunitylibrary.co.uk
SUMMARY:Railway Interest Group
DESCRIPTION:
URL:https://rawdoncommunitylibrary.co.uk/event/railway-interest-group-27/
END:VEVENT
BEGIN:VEVENT
DTSTART;TZID=Europe/London:20260119T100000
DTEND;TZID=Europe/London:20260119T120000
DTSTAMP:20260421T011631
CREATED:20251206T105339Z
LAST-MODIFIED:20251206T105339Z
UID:8319-1768816800-1768824000@rawdoncommunitylibrary.co.uk
SUMMARY:Adult Sewing Bee
DESCRIPTION:
URL:https://rawdoncommunitylibrary.co.uk/event/adult-sewing-bee-144/
END:VEVENT
BEGIN:VEVENT
DTSTART;TZID=Europe/London:20260118T110000
DTEND;TZID=Europe/London:20260118T130000
DTSTAMP:20260421T011631
CREATED:20251206T105308Z
LAST-MODIFIED:20251206T105308Z
UID:8317-1768734000-1768741200@rawdoncommunitylibrary.co.uk
SUMMARY:Children's Crafts
DESCRIPTION:
URL:https://rawdoncommunitylibrary.co.uk/event/childrens-crafts-19/
END:VEVENT
BEGIN:VEVENT
DTSTART;TZID=Europe/London:20260116T131500
DTEND;TZID=Europe/London:20260116T154500
DTSTAMP:20260421T011631
CREATED:20251206T105233Z
LAST-MODIFIED:20251206T105233Z
UID:8315-1768569300-1768578300@rawdoncommunitylibrary.co.uk
SUMMARY:Mah-Jong
DESCRIPTION:
URL:https://rawdoncommunitylibrary.co.uk/event/mah-jong-81/
END:VEVENT
BEGIN:VEVENT
DTSTART;TZID=Europe/London:20260116T130000
DTEND;TZID=Europe/London:20260116T160000
DTSTAMP:20260421T011631
CREATED:20251206T105147Z
LAST-MODIFIED:20251206T105147Z
UID:8313-1768568400-1768579200@rawdoncommunitylibrary.co.uk
SUMMARY:Bridge Club
DESCRIPTION:
URL:https://rawdoncommunitylibrary.co.uk/event/bridge-club-167/
END:VEVENT
BEGIN:VEVENT
DTSTART;TZID=Europe/London:20260115T140000
DTEND;TZID=Europe/London:20260115T150000
DTSTAMP:20260421T011631
CREATED:20251206T105117Z
LAST-MODIFIED:20251206T105117Z
UID:8311-1768485600-1768489200@rawdoncommunitylibrary.co.uk
SUMMARY:Book Club
DESCRIPTION:
URL:https://rawdoncommunitylibrary.co.uk/event/book-club-17/
END:VEVENT
BEGIN:VEVENT
DTSTART;TZID=Europe/London:20260114T103000
DTEND;TZID=Europe/London:20260114T110000
DTSTAMP:20260421T011631
CREATED:20251206T105042Z
LAST-MODIFIED:20251206T105042Z
UID:8309-1768386600-1768388400@rawdoncommunitylibrary.co.uk
SUMMARY:Storytime
DESCRIPTION:
URL:https://rawdoncommunitylibrary.co.uk/event/storytime-18/
END:VEVENT
BEGIN:VEVENT
DTSTART;TZID=Europe/London:20260113T140000
DTEND;TZID=Europe/London:20260113T140000
DTSTAMP:20260421T011631
CREATED:20251012T162319Z
LAST-MODIFIED:20251012T162325Z
UID:8026-1768312800-1768312800@rawdoncommunitylibrary.co.uk
SUMMARY:LECTURE SERIES: Living under the Roman Empire
DESCRIPTION:From 2pm onwards join Dr Henry Clarke as they discuss the topic of:v Living Under The Roman Empire. \nTickets: £5 \nStudents Tickets: £3 \nObtain your tickets in advance from the library or on the day on the door !
URL:https://rawdoncommunitylibrary.co.uk/event/lecture-series-living-under-the-roman-empire/
END:VEVENT
BEGIN:VEVENT
DTSTART;TZID=Europe/London:20260113T140000
DTEND;TZID=Europe/London:20260113T160000
DTSTAMP:20260421T011631
CREATED:20251206T105006Z
LAST-MODIFIED:20251206T105006Z
UID:8307-1768312800-1768320000@rawdoncommunitylibrary.co.uk
SUMMARY:'Living under the Roman Empire' with Henry Clarke
DESCRIPTION:
URL:https://rawdoncommunitylibrary.co.uk/event/living-under-the-roman-empire-with-henry-clarke/
END:VEVENT
BEGIN:VEVENT
DTSTART;TZID=Europe/London:20260113T133000
DTEND;TZID=Europe/London:20260113T150000
DTSTAMP:20260421T011631
CREATED:20251206T104902Z
LAST-MODIFIED:20251206T104902Z
UID:8305-1768311000-1768316400@rawdoncommunitylibrary.co.uk
SUMMARY:Coffee\, Cake and Chat
DESCRIPTION:
URL:https://rawdoncommunitylibrary.co.uk/event/coffee-cake-and-chat-153/
END:VEVENT
BEGIN:VEVENT
DTSTART;TZID=Europe/London:20260113T130000
DTEND;TZID=Europe/London:20260113T150000
DTSTAMP:20260421T011631
CREATED:20251206T104823Z
LAST-MODIFIED:20251206T104823Z
UID:8303-1768309200-1768316400@rawdoncommunitylibrary.co.uk
SUMMARY:Crochet Club
DESCRIPTION:
URL:https://rawdoncommunitylibrary.co.uk/event/crochet-club-429/
END:VEVENT
BEGIN:VEVENT
DTSTART;TZID=Europe/London:20260113T103000
DTEND;TZID=Europe/London:20260113T120000
DTSTAMP:20260421T011631
CREATED:20251206T104749Z
LAST-MODIFIED:20251206T104749Z
UID:8301-1768300200-1768305600@rawdoncommunitylibrary.co.uk
SUMMARY:Coffee\, Cake and Chat
DESCRIPTION:
URL:https://rawdoncommunitylibrary.co.uk/event/coffee-cake-and-chat-152/
END:VEVENT
BEGIN:VEVENT
DTSTART;TZID=Europe/London:20260113T100000
DTEND;TZID=Europe/London:20260113T120000
DTSTAMP:20260421T011631
CREATED:20251206T104657Z
LAST-MODIFIED:20251206T104657Z
UID:8299-1768298400-1768305600@rawdoncommunitylibrary.co.uk
SUMMARY:Crochet Club
DESCRIPTION:
URL:https://rawdoncommunitylibrary.co.uk/event/crochet-club-428/
END:VEVENT
BEGIN:VEVENT
DTSTART;TZID=Europe/London:20260112T100000
DTEND;TZID=Europe/London:20260112T120000
DTSTAMP:20260421T011631
CREATED:20251206T104556Z
LAST-MODIFIED:20251206T104556Z
UID:8297-1768212000-1768219200@rawdoncommunitylibrary.co.uk
SUMMARY:Adult Sewing Bee
DESCRIPTION:
URL:https://rawdoncommunitylibrary.co.uk/event/adult-sewing-bee-143/
END:VEVENT
BEGIN:VEVENT
DTSTART;TZID=Europe/London:20260109T131500
DTEND;TZID=Europe/London:20260109T154500
DTSTAMP:20260421T011631
CREATED:20251206T104513Z
LAST-MODIFIED:20251206T104513Z
UID:8295-1767964500-1767973500@rawdoncommunitylibrary.co.uk
SUMMARY:Mah-Jong
DESCRIPTION:
URL:https://rawdoncommunitylibrary.co.uk/event/mah-jong-80/
END:VEVENT
BEGIN:VEVENT
DTSTART;TZID=Europe/London:20260109T130000
DTEND;TZID=Europe/London:20260109T160000
DTSTAMP:20260421T011631
CREATED:20251206T104425Z
LAST-MODIFIED:20251206T104425Z
UID:8293-1767963600-1767974400@rawdoncommunitylibrary.co.uk
SUMMARY:Bridge Club
DESCRIPTION:
URL:https://rawdoncommunitylibrary.co.uk/event/bridge-club-166/
END:VEVENT
BEGIN:VEVENT
DTSTART;TZID=Europe/London:20260108T133000
DTEND;TZID=Europe/London:20260108T160000
DTSTAMP:20260421T011631
CREATED:20251206T104346Z
LAST-MODIFIED:20251206T104346Z
UID:8291-1767879000-1767888000@rawdoncommunitylibrary.co.uk
SUMMARY:Needlecraft
DESCRIPTION:
URL:https://rawdoncommunitylibrary.co.uk/event/needlecraft-109/
END:VEVENT
BEGIN:VEVENT
DTSTART;TZID=Europe/London:20260107T110000
DTEND;TZID=Europe/London:20260107T120000
DTSTAMP:20260421T011631
CREATED:20251206T104307Z
LAST-MODIFIED:20251206T104307Z
UID:8289-1767783600-1767787200@rawdoncommunitylibrary.co.uk
SUMMARY:French Conversation
DESCRIPTION:
URL:https://rawdoncommunitylibrary.co.uk/event/french-conversation-120/
END:VEVENT
BEGIN:VEVENT
DTSTART;TZID=Europe/London:20260106T133000
DTEND;TZID=Europe/London:20260106T150000
DTSTAMP:20260421T011631
CREATED:20251206T104224Z
LAST-MODIFIED:20251206T104224Z
UID:8287-1767706200-1767711600@rawdoncommunitylibrary.co.uk
SUMMARY:Coffee\, Cake and Chat
DESCRIPTION:
URL:https://rawdoncommunitylibrary.co.uk/event/coffee-cake-and-chat-151/
END:VEVENT
END:VCALENDAR