BEGIN:VCALENDAR
VERSION:2.0
PRODID:-//Rawdon Community Library - ECPv6.15.17.1//NONSGML v1.0//EN
CALSCALE:GREGORIAN
METHOD:PUBLISH
X-WR-CALNAME:Rawdon Community Library
X-ORIGINAL-URL:https://rawdoncommunitylibrary.co.uk
X-WR-CALDESC:Events for Rawdon Community Library
REFRESH-INTERVAL;VALUE=DURATION:PT1H
X-Robots-Tag:noindex
X-PUBLISHED-TTL:PT1H
BEGIN:VTIMEZONE
TZID:Europe/London
BEGIN:DAYLIGHT
TZOFFSETFROM:+0000
TZOFFSETTO:+0100
TZNAME:BST
DTSTART:20240331T010000
END:DAYLIGHT
BEGIN:STANDARD
TZOFFSETFROM:+0100
TZOFFSETTO:+0000
TZNAME:GMT
DTSTART:20241027T010000
END:STANDARD
BEGIN:DAYLIGHT
TZOFFSETFROM:+0000
TZOFFSETTO:+0100
TZNAME:BST
DTSTART:20250330T010000
END:DAYLIGHT
BEGIN:STANDARD
TZOFFSETFROM:+0100
TZOFFSETTO:+0000
TZNAME:GMT
DTSTART:20251026T010000
END:STANDARD
BEGIN:DAYLIGHT
TZOFFSETFROM:+0000
TZOFFSETTO:+0100
TZNAME:BST
DTSTART:20260329T010000
END:DAYLIGHT
BEGIN:STANDARD
TZOFFSETFROM:+0100
TZOFFSETTO:+0000
TZNAME:GMT
DTSTART:20261025T010000
END:STANDARD
END:VTIMEZONE
BEGIN:VEVENT
DTSTART;TZID=Europe/London:20251202T133000
DTEND;TZID=Europe/London:20251202T150000
DTSTAMP:20260425T020501
CREATED:20251114T173352Z
LAST-MODIFIED:20251114T173352Z
UID:8202-1764682200-1764687600@rawdoncommunitylibrary.co.uk
SUMMARY:Coffee\, Cake and Chat
DESCRIPTION:
URL:https://rawdoncommunitylibrary.co.uk/event/coffee-cake-and-chat-146/
END:VEVENT
BEGIN:VEVENT
DTSTART;TZID=Europe/London:20251202T130000
DTEND;TZID=Europe/London:20251202T150000
DTSTAMP:20260425T020501
CREATED:20251114T173127Z
LAST-MODIFIED:20251114T173127Z
UID:8186-1764680400-1764687600@rawdoncommunitylibrary.co.uk
SUMMARY:Crochet Club
DESCRIPTION:
URL:https://rawdoncommunitylibrary.co.uk/event/crochet-club-422/
END:VEVENT
BEGIN:VEVENT
DTSTART;TZID=Europe/London:20251202T103000
DTEND;TZID=Europe/London:20251202T120000
DTSTAMP:20260425T020501
CREATED:20251114T173243Z
LAST-MODIFIED:20251114T173243Z
UID:8194-1764671400-1764676800@rawdoncommunitylibrary.co.uk
SUMMARY:Coffee\, Cake and Chat
DESCRIPTION:
URL:https://rawdoncommunitylibrary.co.uk/event/coffee-cake-and-chat-142/
END:VEVENT
BEGIN:VEVENT
DTSTART;TZID=Europe/London:20251202T100000
DTEND;TZID=Europe/London:20251202T120000
DTSTAMP:20260425T020501
CREATED:20251114T173909Z
LAST-MODIFIED:20251114T173909Z
UID:8228-1764669600-1764676800@rawdoncommunitylibrary.co.uk
SUMMARY:'Regenr8' Men's Group
DESCRIPTION:
URL:https://rawdoncommunitylibrary.co.uk/event/regenr8-mens-group-72/
END:VEVENT
BEGIN:VEVENT
DTSTART;TZID=Europe/London:20251202T100000
DTEND;TZID=Europe/London:20251202T120000
DTSTAMP:20260425T020501
CREATED:20251114T173017Z
LAST-MODIFIED:20251114T173017Z
UID:8178-1764669600-1764676800@rawdoncommunitylibrary.co.uk
SUMMARY:Crochet Club
DESCRIPTION:
URL:https://rawdoncommunitylibrary.co.uk/event/crochet-club-418/
END:VEVENT
BEGIN:VEVENT
DTSTART;TZID=Europe/London:20251201T140000
DTEND;TZID=Europe/London:20251201T160000
DTSTAMP:20260425T020501
CREATED:20251114T174132Z
LAST-MODIFIED:20251114T174132Z
UID:8242-1764597600-1764604800@rawdoncommunitylibrary.co.uk
SUMMARY:Scrabble Club
DESCRIPTION:
URL:https://rawdoncommunitylibrary.co.uk/event/scrabble-club-41/
END:VEVENT
BEGIN:VEVENT
DTSTART;TZID=Europe/London:20251201T130000
DTEND;TZID=Europe/London:20251201T150000
DTSTAMP:20260425T020501
CREATED:20251114T172911Z
LAST-MODIFIED:20251114T172911Z
UID:8170-1764594000-1764601200@rawdoncommunitylibrary.co.uk
SUMMARY:Adult Sewing Bee
DESCRIPTION:
URL:https://rawdoncommunitylibrary.co.uk/event/adult-sewing-bee-138/
END:VEVENT
BEGIN:VEVENT
DTSTART;TZID=Europe/London:20251201T100000
DTEND;TZID=Europe/London:20251201T120000
DTSTAMP:20260425T020501
CREATED:20251114T174414Z
LAST-MODIFIED:20251114T174414Z
UID:8254-1764583200-1764590400@rawdoncommunitylibrary.co.uk
SUMMARY:Freedom4Girls
DESCRIPTION:
URL:https://rawdoncommunitylibrary.co.uk/event/freedom4girls-8/
END:VEVENT
BEGIN:VEVENT
DTSTART;TZID=Europe/London:20251201T100000
DTEND;TZID=Europe/London:20251201T120000
DTSTAMP:20260425T020501
CREATED:20251114T172817Z
LAST-MODIFIED:20251114T172817Z
UID:8162-1764583200-1764590400@rawdoncommunitylibrary.co.uk
SUMMARY:Adult Sewing Bee
DESCRIPTION:
URL:https://rawdoncommunitylibrary.co.uk/event/adult-sewing-bee-134/
END:VEVENT
BEGIN:VEVENT
DTSTART;TZID=Europe/London:20251128T131500
DTEND;TZID=Europe/London:20251128T154500
DTSTAMP:20260425T020501
CREATED:20251012T163922Z
LAST-MODIFIED:20251012T163922Z
UID:8100-1764335700-1764344700@rawdoncommunitylibrary.co.uk
SUMMARY:Mah-Jong
DESCRIPTION:
URL:https://rawdoncommunitylibrary.co.uk/event/mah-jong-76/
END:VEVENT
BEGIN:VEVENT
DTSTART;TZID=Europe/London:20251128T130000
DTEND;TZID=Europe/London:20251128T160000
DTSTAMP:20260425T020501
CREATED:20251012T163723Z
LAST-MODIFIED:20251012T163723Z
UID:8090-1764334800-1764345600@rawdoncommunitylibrary.co.uk
SUMMARY:Bridge Club
DESCRIPTION:
URL:https://rawdoncommunitylibrary.co.uk/event/bridge-club-162/
END:VEVENT
BEGIN:VEVENT
DTSTART;TZID=Europe/London:20251127T100000
DTEND;TZID=Europe/London:20251127T120000
DTSTAMP:20260425T020501
CREATED:20251012T163610Z
LAST-MODIFIED:20251012T163610Z
UID:8082-1764237600-1764244800@rawdoncommunitylibrary.co.uk
SUMMARY:Find My Past and Local History Support
DESCRIPTION:
URL:https://rawdoncommunitylibrary.co.uk/event/find-my-past-and-local-history-support-34/
END:VEVENT
BEGIN:VEVENT
DTSTART;TZID=Europe/London:20251126T110000
DTEND;TZID=Europe/London:20251126T120000
DTSTAMP:20260425T020501
CREATED:20251012T164655Z
LAST-MODIFIED:20251012T164655Z
UID:8110-1764154800-1764158400@rawdoncommunitylibrary.co.uk
SUMMARY:French Conversation
DESCRIPTION:
URL:https://rawdoncommunitylibrary.co.uk/event/french-conversation-117/
END:VEVENT
BEGIN:VEVENT
DTSTART;TZID=Europe/London:20251125T193000
DTEND;TZID=Europe/London:20251125T210000
DTSTAMP:20260425T020501
CREATED:20251012T164957Z
LAST-MODIFIED:20251012T164957Z
UID:8120-1764099000-1764104400@rawdoncommunitylibrary.co.uk
SUMMARY:Aireborough Civic Society
DESCRIPTION:
URL:https://rawdoncommunitylibrary.co.uk/event/aireborough-civic-society-29/
END:VEVENT
BEGIN:VEVENT
DTSTART;TZID=Europe/London:20251125T133000
DTEND;TZID=Europe/London:20251125T150000
DTSTAMP:20260425T020501
CREATED:20251012T163441Z
LAST-MODIFIED:20251012T163441Z
UID:8074-1764077400-1764082800@rawdoncommunitylibrary.co.uk
SUMMARY:Coffee\, Cake and Chat
DESCRIPTION:
URL:https://rawdoncommunitylibrary.co.uk/event/coffee-cake-and-chat-141/
END:VEVENT
BEGIN:VEVENT
DTSTART;TZID=Europe/London:20251125T130000
DTEND;TZID=Europe/London:20251125T150000
DTSTAMP:20260425T020501
CREATED:20251012T163149Z
LAST-MODIFIED:20251012T163149Z
UID:8058-1764075600-1764082800@rawdoncommunitylibrary.co.uk
SUMMARY:Crochet Club
DESCRIPTION:
URL:https://rawdoncommunitylibrary.co.uk/event/crochet-club-417/
END:VEVENT
BEGIN:VEVENT
DTSTART;TZID=Europe/London:20251125T103000
DTEND;TZID=Europe/London:20251125T120000
DTSTAMP:20260425T020501
CREATED:20251012T163338Z
LAST-MODIFIED:20251012T163338Z
UID:8066-1764066600-1764072000@rawdoncommunitylibrary.co.uk
SUMMARY:Coffee\, Cake and Chat
DESCRIPTION:
URL:https://rawdoncommunitylibrary.co.uk/event/coffee-cake-and-chat-137/
END:VEVENT
BEGIN:VEVENT
DTSTART;TZID=Europe/London:20251125T100000
DTEND;TZID=Europe/London:20251125T120000
DTSTAMP:20260425T020501
CREATED:20251012T163037Z
LAST-MODIFIED:20251012T163037Z
UID:8050-1764064800-1764072000@rawdoncommunitylibrary.co.uk
SUMMARY:Crochet Club
DESCRIPTION:
URL:https://rawdoncommunitylibrary.co.uk/event/crochet-club-413/
END:VEVENT
BEGIN:VEVENT
DTSTART;TZID=Europe/London:20251124T130000
DTEND;TZID=Europe/London:20251124T150000
DTSTAMP:20260425T020501
CREATED:20251012T162914Z
LAST-MODIFIED:20251012T162914Z
UID:8042-1763989200-1763996400@rawdoncommunitylibrary.co.uk
SUMMARY:Adult Sewing Bee
DESCRIPTION:
URL:https://rawdoncommunitylibrary.co.uk/event/adult-sewing-bee-133/
END:VEVENT
BEGIN:VEVENT
DTSTART;TZID=Europe/London:20251124T100000
DTEND;TZID=Europe/London:20251124T120000
DTSTAMP:20260425T020501
CREATED:20251012T162803Z
LAST-MODIFIED:20251012T162803Z
UID:8034-1763978400-1763985600@rawdoncommunitylibrary.co.uk
SUMMARY:Adult Sewing Bee
DESCRIPTION:
URL:https://rawdoncommunitylibrary.co.uk/event/adult-sewing-bee-129/
END:VEVENT
BEGIN:VEVENT
DTSTART;TZID=Europe/London:20251121T131500
DTEND;TZID=Europe/London:20251121T154500
DTSTAMP:20260425T020501
CREATED:20251012T163902Z
LAST-MODIFIED:20251012T164101Z
UID:8098-1763730900-1763739900@rawdoncommunitylibrary.co.uk
SUMMARY:Mah-Jong
DESCRIPTION:
URL:https://rawdoncommunitylibrary.co.uk/event/mah-jong-75/
END:VEVENT
BEGIN:VEVENT
DTSTART;TZID=Europe/London:20251121T130000
DTEND;TZID=Europe/London:20251121T160000
DTSTAMP:20260425T020501
CREATED:20251012T163708Z
LAST-MODIFIED:20251012T163708Z
UID:8088-1763730000-1763740800@rawdoncommunitylibrary.co.uk
SUMMARY:Bridge Club
DESCRIPTION:
URL:https://rawdoncommunitylibrary.co.uk/event/bridge-club-161/
END:VEVENT
BEGIN:VEVENT
DTSTART;TZID=Europe/London:20251120T140000
DTEND;TZID=Europe/London:20251120T150000
DTSTAMP:20260425T020501
CREATED:20251012T165106Z
LAST-MODIFIED:20251012T165106Z
UID:8124-1763647200-1763650800@rawdoncommunitylibrary.co.uk
SUMMARY:Book Club
DESCRIPTION:
URL:https://rawdoncommunitylibrary.co.uk/event/book-club-15/
END:VEVENT
BEGIN:VEVENT
DTSTART;TZID=Europe/London:20251120T133000
DTEND;TZID=Europe/London:20251120T160000
DTSTAMP:20260425T020501
CREATED:20251012T164738Z
LAST-MODIFIED:20251012T164738Z
UID:8114-1763645400-1763654400@rawdoncommunitylibrary.co.uk
SUMMARY:Needlecraft
DESCRIPTION:
URL:https://rawdoncommunitylibrary.co.uk/event/needlecraft-106/
END:VEVENT
BEGIN:VEVENT
DTSTART;TZID=Europe/London:20251120T103000
DTEND;TZID=Europe/London:20251120T120000
DTSTAMP:20260425T020501
CREATED:20251016T102406Z
LAST-MODIFIED:20251016T102406Z
UID:8138-1763634600-1763640000@rawdoncommunitylibrary.co.uk
SUMMARY:Family History Group
DESCRIPTION:
URL:https://rawdoncommunitylibrary.co.uk/event/family-history-group/
END:VEVENT
BEGIN:VEVENT
DTSTART;TZID=Europe/London:20251120T103000
DTEND;TZID=Europe/London:20251120T120000
DTSTAMP:20260425T020501
CREATED:20251012T164252Z
LAST-MODIFIED:20251012T164252Z
UID:8102-1763634600-1763640000@rawdoncommunitylibrary.co.uk
SUMMARY:Local Family History Group
DESCRIPTION:
URL:https://rawdoncommunitylibrary.co.uk/event/local-family-history-group-2/
END:VEVENT
BEGIN:VEVENT
DTSTART;TZID=Europe/London:20251120T100000
DTEND;TZID=Europe/London:20251120T120000
DTSTAMP:20260425T020501
CREATED:20251012T163554Z
LAST-MODIFIED:20251012T163554Z
UID:8080-1763632800-1763640000@rawdoncommunitylibrary.co.uk
SUMMARY:Find My Past and Local History Support
DESCRIPTION:
URL:https://rawdoncommunitylibrary.co.uk/event/find-my-past-and-local-history-support-33/
END:VEVENT
BEGIN:VEVENT
DTSTART;TZID=Europe/London:20251118T133000
DTEND;TZID=Europe/London:20251118T150000
DTSTAMP:20260425T020501
CREATED:20251012T163424Z
LAST-MODIFIED:20251012T163424Z
UID:8072-1763472600-1763478000@rawdoncommunitylibrary.co.uk
SUMMARY:Coffee\, Cake and Chat
DESCRIPTION:
URL:https://rawdoncommunitylibrary.co.uk/event/coffee-cake-and-chat-140/
END:VEVENT
BEGIN:VEVENT
DTSTART;TZID=Europe/London:20251118T130000
DTEND;TZID=Europe/London:20251118T150000
DTSTAMP:20260425T020501
CREATED:20251012T163136Z
LAST-MODIFIED:20251012T163136Z
UID:8056-1763470800-1763478000@rawdoncommunitylibrary.co.uk
SUMMARY:Crochet Club
DESCRIPTION:
URL:https://rawdoncommunitylibrary.co.uk/event/crochet-club-416/
END:VEVENT
BEGIN:VEVENT
DTSTART;TZID=Europe/London:20251118T103000
DTEND;TZID=Europe/London:20251118T120000
DTSTAMP:20260425T020501
CREATED:20251012T163324Z
LAST-MODIFIED:20251012T163324Z
UID:8064-1763461800-1763467200@rawdoncommunitylibrary.co.uk
SUMMARY:Coffee\, Cake and Chat
DESCRIPTION:
URL:https://rawdoncommunitylibrary.co.uk/event/coffee-cake-and-chat-136/
END:VEVENT
END:VCALENDAR