BEGIN:VCALENDAR
VERSION:2.0
PRODID:-//Rawdon Community Library - ECPv6.15.17.1//NONSGML v1.0//EN
CALSCALE:GREGORIAN
METHOD:PUBLISH
X-WR-CALNAME:Rawdon Community Library
X-ORIGINAL-URL:https://rawdoncommunitylibrary.co.uk
X-WR-CALDESC:Events for Rawdon Community Library
REFRESH-INTERVAL;VALUE=DURATION:PT1H
X-Robots-Tag:noindex
X-PUBLISHED-TTL:PT1H
BEGIN:VTIMEZONE
TZID:Europe/London
BEGIN:DAYLIGHT
TZOFFSETFROM:+0000
TZOFFSETTO:+0100
TZNAME:BST
DTSTART:20240331T010000
END:DAYLIGHT
BEGIN:STANDARD
TZOFFSETFROM:+0100
TZOFFSETTO:+0000
TZNAME:GMT
DTSTART:20241027T010000
END:STANDARD
BEGIN:DAYLIGHT
TZOFFSETFROM:+0000
TZOFFSETTO:+0100
TZNAME:BST
DTSTART:20250330T010000
END:DAYLIGHT
BEGIN:STANDARD
TZOFFSETFROM:+0100
TZOFFSETTO:+0000
TZNAME:GMT
DTSTART:20251026T010000
END:STANDARD
BEGIN:DAYLIGHT
TZOFFSETFROM:+0000
TZOFFSETTO:+0100
TZNAME:BST
DTSTART:20260329T010000
END:DAYLIGHT
BEGIN:STANDARD
TZOFFSETFROM:+0100
TZOFFSETTO:+0000
TZNAME:GMT
DTSTART:20261025T010000
END:STANDARD
END:VTIMEZONE
BEGIN:VEVENT
DTSTART;TZID=Europe/London:20251020T100000
DTEND;TZID=Europe/London:20251020T120000
DTSTAMP:20260425T230458
CREATED:20250908T173201Z
LAST-MODIFIED:20250908T173201Z
UID:7906-1760954400-1760961600@rawdoncommunitylibrary.co.uk
SUMMARY:Adult Sewing Bee
DESCRIPTION:
URL:https://rawdoncommunitylibrary.co.uk/event/adult-sewing-bee-120/
END:VEVENT
BEGIN:VEVENT
DTSTART;TZID=Europe/London:20251017T131500
DTEND;TZID=Europe/London:20251017T154500
DTSTAMP:20260425T230458
CREATED:20250908T174626Z
LAST-MODIFIED:20250908T174626Z
UID:7975-1760706900-1760715900@rawdoncommunitylibrary.co.uk
SUMMARY:Mah-Jong
DESCRIPTION:
URL:https://rawdoncommunitylibrary.co.uk/event/mah-jong-69/
END:VEVENT
BEGIN:VEVENT
DTSTART;TZID=Europe/London:20251017T130000
DTEND;TZID=Europe/London:20251017T160000
DTSTAMP:20260425T230458
CREATED:20250908T174308Z
LAST-MODIFIED:20250908T174308Z
UID:7964-1760706000-1760716800@rawdoncommunitylibrary.co.uk
SUMMARY:Bridge Club
DESCRIPTION:
URL:https://rawdoncommunitylibrary.co.uk/event/bridge-club-156/
END:VEVENT
BEGIN:VEVENT
DTSTART;TZID=Europe/London:20251016T190000
DTEND;TZID=Europe/London:20251016T190000
DTSTAMP:20260425T230458
CREATED:20250908T175542Z
LAST-MODIFIED:20250908T175549Z
UID:7999-1760641200-1760641200@rawdoncommunitylibrary.co.uk
SUMMARY:Quiz Night
DESCRIPTION:£5 per ticket!
URL:https://rawdoncommunitylibrary.co.uk/event/quiz-night-5/
END:VEVENT
BEGIN:VEVENT
DTSTART;TZID=Europe/London:20251016T140000
DTEND;TZID=Europe/London:20251016T150000
DTSTAMP:20260425T230458
CREATED:20250908T175343Z
LAST-MODIFIED:20250908T175343Z
UID:7991-1760623200-1760626800@rawdoncommunitylibrary.co.uk
SUMMARY:Book Club
DESCRIPTION:
URL:https://rawdoncommunitylibrary.co.uk/event/book-club-14/
END:VEVENT
BEGIN:VEVENT
DTSTART;TZID=Europe/London:20251016T100000
DTEND;TZID=Europe/London:20251016T120000
DTSTAMP:20260425T230458
CREATED:20250908T174113Z
LAST-MODIFIED:20250908T174113Z
UID:7954-1760608800-1760616000@rawdoncommunitylibrary.co.uk
SUMMARY:Find My Past and Local History Support
DESCRIPTION:
URL:https://rawdoncommunitylibrary.co.uk/event/find-my-past-and-local-history-support-28/
END:VEVENT
BEGIN:VEVENT
DTSTART;TZID=Europe/London:20251015T110000
DTEND;TZID=Europe/London:20251015T120000
DTSTAMP:20260425T230458
CREATED:20250908T172534Z
LAST-MODIFIED:20250908T172534Z
UID:7890-1760526000-1760529600@rawdoncommunitylibrary.co.uk
SUMMARY:French Conversation
DESCRIPTION:
URL:https://rawdoncommunitylibrary.co.uk/event/french-conversation-114/
END:VEVENT
BEGIN:VEVENT
DTSTART;TZID=Europe/London:20251015T100000
DTEND;TZID=Europe/London:20251015T120000
DTSTAMP:20260425T230458
CREATED:20250908T172645Z
LAST-MODIFIED:20250908T172645Z
UID:7894-1760522400-1760529600@rawdoncommunitylibrary.co.uk
SUMMARY:'Regenr8' Men's Group
DESCRIPTION:
URL:https://rawdoncommunitylibrary.co.uk/event/regenr8-mens-group-68/
END:VEVENT
BEGIN:VEVENT
DTSTART;TZID=Europe/London:20251014T140000
DTEND;TZID=Europe/London:20251014T140000
DTSTAMP:20260425T230458
CREATED:20250908T175626Z
LAST-MODIFIED:20250908T175631Z
UID:8001-1760450400-1760450400@rawdoncommunitylibrary.co.uk
SUMMARY:Lecture: Yorkshire: A special Place For Birds
DESCRIPTION:£5 Tickets
URL:https://rawdoncommunitylibrary.co.uk/event/lecture-yorkshire-a-special-place-for-birds/
END:VEVENT
BEGIN:VEVENT
DTSTART;TZID=Europe/London:20251014T133000
DTEND;TZID=Europe/London:20251014T150000
DTSTAMP:20260425T230458
CREATED:20250908T173848Z
LAST-MODIFIED:20250908T173848Z
UID:7944-1760448600-1760454000@rawdoncommunitylibrary.co.uk
SUMMARY:Coffee\, Cake and Chat
DESCRIPTION:
URL:https://rawdoncommunitylibrary.co.uk/event/coffee-cake-and-chat-131/
END:VEVENT
BEGIN:VEVENT
DTSTART;TZID=Europe/London:20251014T130000
DTEND;TZID=Europe/London:20251014T150000
DTSTAMP:20260425T230458
CREATED:20250908T173500Z
LAST-MODIFIED:20250908T173500Z
UID:7928-1760446800-1760454000@rawdoncommunitylibrary.co.uk
SUMMARY:Crochet Club
DESCRIPTION:
URL:https://rawdoncommunitylibrary.co.uk/event/crochet-club-407/
END:VEVENT
BEGIN:VEVENT
DTSTART;TZID=Europe/London:20251014T103000
DTEND;TZID=Europe/London:20251014T120000
DTSTAMP:20260425T230458
CREATED:20250908T173625Z
LAST-MODIFIED:20250908T173802Z
UID:7936-1760437800-1760443200@rawdoncommunitylibrary.co.uk
SUMMARY:Coffee\, Cake and Chat
DESCRIPTION:
URL:https://rawdoncommunitylibrary.co.uk/event/coffee-cake-and-chat-127/
END:VEVENT
BEGIN:VEVENT
DTSTART;TZID=Europe/London:20251014T100000
DTEND;TZID=Europe/London:20251014T120000
DTSTAMP:20260425T230458
CREATED:20250908T173402Z
LAST-MODIFIED:20250908T173402Z
UID:7920-1760436000-1760443200@rawdoncommunitylibrary.co.uk
SUMMARY:Crochet Club
DESCRIPTION:
URL:https://rawdoncommunitylibrary.co.uk/event/crochet-club-403/
END:VEVENT
BEGIN:VEVENT
DTSTART;TZID=Europe/London:20251013T130000
DTEND;TZID=Europe/London:20251013T150000
DTSTAMP:20260425T230458
CREATED:20250908T173253Z
LAST-MODIFIED:20250908T173253Z
UID:7912-1760360400-1760367600@rawdoncommunitylibrary.co.uk
SUMMARY:Adult Sewing Bee
DESCRIPTION:
URL:https://rawdoncommunitylibrary.co.uk/event/adult-sewing-bee-123/
END:VEVENT
BEGIN:VEVENT
DTSTART;TZID=Europe/London:20251013T100000
DTEND;TZID=Europe/London:20251013T120000
DTSTAMP:20260425T230458
CREATED:20250908T173146Z
LAST-MODIFIED:20250908T173146Z
UID:7904-1760349600-1760356800@rawdoncommunitylibrary.co.uk
SUMMARY:Adult Sewing Bee
DESCRIPTION:
URL:https://rawdoncommunitylibrary.co.uk/event/adult-sewing-bee-119/
END:VEVENT
BEGIN:VEVENT
DTSTART;TZID=Europe/London:20251012T110000
DTEND;TZID=Europe/London:20251012T130000
DTSTAMP:20260425T230458
CREATED:20250908T175409Z
LAST-MODIFIED:20250908T175409Z
UID:7993-1760266800-1760274000@rawdoncommunitylibrary.co.uk
SUMMARY:Childrens Crafts
DESCRIPTION:
URL:https://rawdoncommunitylibrary.co.uk/event/childrens-crafts-16/
END:VEVENT
BEGIN:VEVENT
DTSTART;TZID=Europe/London:20251010T131500
DTEND;TZID=Europe/London:20251010T154500
DTSTAMP:20260425T230458
CREATED:20250908T174610Z
LAST-MODIFIED:20250908T174610Z
UID:7973-1760102100-1760111100@rawdoncommunitylibrary.co.uk
SUMMARY:Mah-Jong
DESCRIPTION:
URL:https://rawdoncommunitylibrary.co.uk/event/mah-jong-68/
END:VEVENT
BEGIN:VEVENT
DTSTART;TZID=Europe/London:20251010T130000
DTEND;TZID=Europe/London:20251010T160000
DTSTAMP:20260425T230458
CREATED:20250908T174247Z
LAST-MODIFIED:20250908T174247Z
UID:7962-1760101200-1760112000@rawdoncommunitylibrary.co.uk
SUMMARY:Bridge Club
DESCRIPTION:
URL:https://rawdoncommunitylibrary.co.uk/event/bridge-club-155/
END:VEVENT
BEGIN:VEVENT
DTSTART;TZID=Europe/London:20251009T133000
DTEND;TZID=Europe/London:20251009T160000
DTSTAMP:20260425T230458
CREATED:20250908T172826Z
LAST-MODIFIED:20250908T172826Z
UID:7898-1760016600-1760025600@rawdoncommunitylibrary.co.uk
SUMMARY:Needlecraft
DESCRIPTION:
URL:https://rawdoncommunitylibrary.co.uk/event/needlecraft-103/
END:VEVENT
BEGIN:VEVENT
DTSTART;TZID=Europe/London:20251009T100000
DTEND;TZID=Europe/London:20251009T120000
DTSTAMP:20260425T230458
CREATED:20250908T175513Z
LAST-MODIFIED:20250908T175513Z
UID:7997-1760004000-1760011200@rawdoncommunitylibrary.co.uk
SUMMARY:Children's Sewing Bee
DESCRIPTION:
URL:https://rawdoncommunitylibrary.co.uk/event/childrens-sewing-bee-13/
END:VEVENT
BEGIN:VEVENT
DTSTART;TZID=Europe/London:20251009T100000
DTEND;TZID=Europe/London:20251009T120000
DTSTAMP:20260425T230458
CREATED:20250908T174058Z
LAST-MODIFIED:20250908T174058Z
UID:7952-1760004000-1760011200@rawdoncommunitylibrary.co.uk
SUMMARY:Find My Past and Local History Support
DESCRIPTION:
URL:https://rawdoncommunitylibrary.co.uk/event/find-my-past-and-local-history-support-27/
END:VEVENT
BEGIN:VEVENT
DTSTART;TZID=Europe/London:20251008T103000
DTEND;TZID=Europe/London:20251008T110000
DTSTAMP:20260425T230458
CREATED:20250908T175257Z
LAST-MODIFIED:20250908T175257Z
UID:7987-1759919400-1759921200@rawdoncommunitylibrary.co.uk
SUMMARY:Storytime
DESCRIPTION:
URL:https://rawdoncommunitylibrary.co.uk/event/storytime-15/
END:VEVENT
BEGIN:VEVENT
DTSTART;TZID=Europe/London:20251007T133000
DTEND;TZID=Europe/London:20251007T150000
DTSTAMP:20260425T230458
CREATED:20250908T173834Z
LAST-MODIFIED:20250908T173834Z
UID:7942-1759843800-1759849200@rawdoncommunitylibrary.co.uk
SUMMARY:Coffee\, Cake and Chat
DESCRIPTION:
URL:https://rawdoncommunitylibrary.co.uk/event/coffee-cake-and-chat-130/
END:VEVENT
BEGIN:VEVENT
DTSTART;TZID=Europe/London:20251007T130000
DTEND;TZID=Europe/London:20251007T150000
DTSTAMP:20260425T230458
CREATED:20250908T173448Z
LAST-MODIFIED:20250908T173448Z
UID:7926-1759842000-1759849200@rawdoncommunitylibrary.co.uk
SUMMARY:Crochet Club
DESCRIPTION:
URL:https://rawdoncommunitylibrary.co.uk/event/crochet-club-406/
END:VEVENT
BEGIN:VEVENT
DTSTART;TZID=Europe/London:20251007T103000
DTEND;TZID=Europe/London:20251007T120000
DTSTAMP:20260425T230458
CREATED:20250908T173609Z
LAST-MODIFIED:20250908T173609Z
UID:7934-1759833000-1759838400@rawdoncommunitylibrary.co.uk
SUMMARY:Coffee\, Cake and Chat
DESCRIPTION:
URL:https://rawdoncommunitylibrary.co.uk/event/coffee-cake-and-chat-126/
END:VEVENT
BEGIN:VEVENT
DTSTART;TZID=Europe/London:20251007T100000
DTEND;TZID=Europe/London:20251007T120000
DTSTAMP:20260425T230458
CREATED:20250908T173348Z
LAST-MODIFIED:20250908T173348Z
UID:7918-1759831200-1759838400@rawdoncommunitylibrary.co.uk
SUMMARY:Crochet Club
DESCRIPTION:
URL:https://rawdoncommunitylibrary.co.uk/event/crochet-club-402/
END:VEVENT
BEGIN:VEVENT
DTSTART;TZID=Europe/London:20251006T140000
DTEND;TZID=Europe/London:20251006T160000
DTSTAMP:20260425T230458
CREATED:20250908T174956Z
LAST-MODIFIED:20250908T174956Z
UID:7981-1759759200-1759766400@rawdoncommunitylibrary.co.uk
SUMMARY:Scrabble Club
DESCRIPTION:
URL:https://rawdoncommunitylibrary.co.uk/event/scrabble-club-40/
END:VEVENT
BEGIN:VEVENT
DTSTART;TZID=Europe/London:20251006T130000
DTEND;TZID=Europe/London:20251006T150000
DTSTAMP:20260425T230458
CREATED:20250908T173238Z
LAST-MODIFIED:20250908T173238Z
UID:7910-1759755600-1759762800@rawdoncommunitylibrary.co.uk
SUMMARY:Adult Sewing Bee
DESCRIPTION:
URL:https://rawdoncommunitylibrary.co.uk/event/adult-sewing-bee-122/
END:VEVENT
BEGIN:VEVENT
DTSTART;TZID=Europe/London:20251006T100000
DTEND;TZID=Europe/London:20251006T120000
DTSTAMP:20260425T230458
CREATED:20250908T175431Z
LAST-MODIFIED:20250908T175431Z
UID:7995-1759744800-1759752000@rawdoncommunitylibrary.co.uk
SUMMARY:Freedom4Girls
DESCRIPTION:
URL:https://rawdoncommunitylibrary.co.uk/event/freedom4girls-6/
END:VEVENT
BEGIN:VEVENT
DTSTART;TZID=Europe/London:20251006T100000
DTEND;TZID=Europe/London:20251006T120000
DTSTAMP:20260425T230458
CREATED:20250908T173131Z
LAST-MODIFIED:20250908T173131Z
UID:7902-1759744800-1759752000@rawdoncommunitylibrary.co.uk
SUMMARY:Adult Sewing Bee
DESCRIPTION:
URL:https://rawdoncommunitylibrary.co.uk/event/adult-sewing-bee-118/
END:VEVENT
END:VCALENDAR